BEGIN:VCALENDAR
VERSION:2.0
PRODID:-//Mairie de Laneuvelotte - Site officiel - ECPv6.15.20//NONSGML v1.0//EN
CALSCALE:GREGORIAN
METHOD:PUBLISH
X-ORIGINAL-URL:https://laneuvelotte.fr
X-WR-CALDESC:Évènements pour Mairie de Laneuvelotte - Site officiel
REFRESH-INTERVAL;VALUE=DURATION:PT1H
X-Robots-Tag:noindex
X-PUBLISHED-TTL:PT1H
BEGIN:VTIMEZONE
TZID:Europe/Paris
BEGIN:DAYLIGHT
TZOFFSETFROM:+0100
TZOFFSETTO:+0200
TZNAME:CEST
DTSTART:20230326T010000
END:DAYLIGHT
BEGIN:STANDARD
TZOFFSETFROM:+0200
TZOFFSETTO:+0100
TZNAME:CET
DTSTART:20231029T010000
END:STANDARD
BEGIN:DAYLIGHT
TZOFFSETFROM:+0100
TZOFFSETTO:+0200
TZNAME:CEST
DTSTART:20240331T010000
END:DAYLIGHT
BEGIN:STANDARD
TZOFFSETFROM:+0200
TZOFFSETTO:+0100
TZNAME:CET
DTSTART:20241027T010000
END:STANDARD
BEGIN:DAYLIGHT
TZOFFSETFROM:+0100
TZOFFSETTO:+0200
TZNAME:CEST
DTSTART:20250330T010000
END:DAYLIGHT
BEGIN:STANDARD
TZOFFSETFROM:+0200
TZOFFSETTO:+0100
TZNAME:CET
DTSTART:20251026T010000
END:STANDARD
BEGIN:DAYLIGHT
TZOFFSETFROM:+0100
TZOFFSETTO:+0200
TZNAME:CEST
DTSTART:20260329T010000
END:DAYLIGHT
BEGIN:STANDARD
TZOFFSETFROM:+0200
TZOFFSETTO:+0100
TZNAME:CET
DTSTART:20261025T010000
END:STANDARD
BEGIN:DAYLIGHT
TZOFFSETFROM:+0100
TZOFFSETTO:+0200
TZNAME:CEST
DTSTART:20270328T010000
END:DAYLIGHT
BEGIN:STANDARD
TZOFFSETFROM:+0200
TZOFFSETTO:+0100
TZNAME:CET
DTSTART:20271031T010000
END:STANDARD
END:VTIMEZONE
BEGIN:VEVENT
DTSTART;TZID=Europe/Paris:20260322T080000
DTEND;TZID=Europe/Paris:20260322T180000
DTSTAMP:20260422T112407
CREATED:20251114T142929Z
LAST-MODIFIED:20251114T142929Z
UID:3926-1774166400-1774202400@laneuvelotte.fr
SUMMARY:Élections municipales
DESCRIPTION:Les dimanche 15 et 22 mars se dérouleront les élections municipales
URL:https://laneuvelotte.fr/event/elections-municipales-2/
END:VEVENT
BEGIN:VEVENT
DTSTART;TZID=Europe/Paris:20260315T080000
DTEND;TZID=Europe/Paris:20260315T180000
DTSTAMP:20260422T112407
CREATED:20251114T142903Z
LAST-MODIFIED:20251114T142903Z
UID:3924-1773561600-1773597600@laneuvelotte.fr
SUMMARY:Élections municipales
DESCRIPTION:Les dimanche 15 et 22 mars se dérouleront les élections municipales
URL:https://laneuvelotte.fr/event/elections-municipales/
END:VEVENT
BEGIN:VEVENT
DTSTART;TZID=Europe/Paris:20260210T203000
DTEND;TZID=Europe/Paris:20260210T213000
DTSTAMP:20260422T112407
CREATED:20260206T060737Z
LAST-MODIFIED:20260206T060737Z
UID:4112-1770755400-1770759000@laneuvelotte.fr
SUMMARY:Conseil municipal
DESCRIPTION:ORDRE DU JOUR :\n1. VALIDATION DU PV DU CONSEIL DU 20/01/20262. COMPTE FINANCIER UNIQUE 20253. MISE EN PLACE D’UNE VIDÉOPROTECTION AU NIVEAU DU POINT D’APPORT VOLONTAIRE4. MANDATEMENT POUR LE RENOUVELLEMENT DU CONTRAT ASSURANCE STATUTAIRE 2027–2030 AVEC LE CENTRE DE GESTION DE MEURTHE–ET–MOSELLE.
URL:https://laneuvelotte.fr/event/conseil-municipal-2/
LOCATION:mairie\, 35 grande rue\, LANEUVELOTTE\, 54280
END:VEVENT
BEGIN:VEVENT
DTSTART;TZID=Europe/Paris:20260131T080000
DTEND;TZID=Europe/Paris:20260131T190000
DTSTAMP:20260422T112407
CREATED:20251114T142723Z
LAST-MODIFIED:20251114T142723Z
UID:3922-1769846400-1769886000@laneuvelotte.fr
SUMMARY:Repas des ainés à Kirrwiller
DESCRIPTION:La municipalité invite les ainés de Laneuvelotte au Royal Palace Music Hall de Kirrwiller. \nLes personnes concernées recevront l’invitation directement dans leur boite aux lettre.
URL:https://laneuvelotte.fr/event/repas-des-aines-a-kirrwiller/
END:VEVENT
BEGIN:VEVENT
DTSTART;TZID=Europe/Paris:20260120T203000
DTEND;TZID=Europe/Paris:20260120T213000
DTSTAMP:20260422T112407
CREATED:20260118T175728Z
LAST-MODIFIED:20260118T175728Z
UID:4060-1768941000-1768944600@laneuvelotte.fr
SUMMARY:Conseil municipal
DESCRIPTION:Délibérations :  \n\nValidation du PV du conseil du 16.12.2025\nOuverture du quart des crédits d’investissement avant vote du budget\nBail de l’appartement de l’ancienne école\nDemande subvention de l’aire de jeux et de loisirs
URL:https://laneuvelotte.fr/event/conseil-municipal/
LOCATION:mairie\, 35 grande rue\, LANEUVELOTTE\, 54280
END:VEVENT
BEGIN:VEVENT
DTSTART;TZID=Europe/Paris:20260103T180000
DTEND;TZID=Europe/Paris:20260103T210000
DTSTAMP:20260422T112407
CREATED:20251223T133744Z
LAST-MODIFIED:20251223T133744Z
UID:4031-1767463200-1767474000@laneuvelotte.fr
SUMMARY:Cérémonie des voeux de l'équipe municipale
DESCRIPTION:Chaque habitant est invité à la cérémonie des voeux de l’équipe municipale qui sera suivie du pot de l’amitié.
URL:https://laneuvelotte.fr/event/ceremonie-des-voeux-de-lequipe-municipale-2/
LOCATION:mairie\, 35 grande rue\, LANEUVELOTTE\, 54280
END:VEVENT
BEGIN:VEVENT
DTSTART;TZID=Europe/Paris:20251214T153000
DTEND;TZID=Europe/Paris:20251214T190000
DTSTAMP:20260422T112407
CREATED:20251212T090609Z
LAST-MODIFIED:20251212T090635Z
UID:3985-1765726200-1765738800@laneuvelotte.fr
SUMMARY:Fête de la Saint Nicolas
DESCRIPTION:Dimanche 14 décembre 2025 à partir de 15h30\, Saint Nicolas fera son grand retour à Laneuvelotte.
URL:https://laneuvelotte.fr/event/fete-de-la-saint-nicolas/
END:VEVENT
BEGIN:VEVENT
DTSTART;TZID=Europe/Paris:20251122T190000
DTEND;TZID=Europe/Paris:20251122T233000
DTSTAMP:20260422T112407
CREATED:20251114T142240Z
LAST-MODIFIED:20251114T142240Z
UID:3920-1763838000-1763854200@laneuvelotte.fr
SUMMARY:Soirée Beaujolais et concert
DESCRIPTION:Soirée Beaujolais en musique à Laneuvelotte\n \n\n\n\n\nLa municipalité et le comité des fêtes de Laneuvelotte s’unissent pour vous proposer une soirée beaujolais le samedi 22 novembre à partir de 19h au centre du village\, avec buvette et concert gratuit. Vous pouvez donc venir boire un verre et profiter de la soirée en bonne compagnie.
URL:https://laneuvelotte.fr/event/soiree-beaujolais-et-concert/
END:VEVENT
BEGIN:VEVENT
DTSTART;TZID=Europe/Paris:20250202T120000
DTEND;TZID=Europe/Paris:20250202T190000
DTSTAMP:20260422T112407
CREATED:20241029T141856Z
LAST-MODIFIED:20241029T141856Z
UID:3009-1738497600-1738522800@laneuvelotte.fr
SUMMARY:Repas des ainés
DESCRIPTION:Le repas des ainés aura lieu dimanche 02 février à la salle des fêtes de Velaine-sous-Amance. \nTous les habitants du village de plus de 62 ans recevront une invitation dans leur boîte aux lettres.
URL:https://laneuvelotte.fr/event/repas-des-aines/
END:VEVENT
BEGIN:VEVENT
DTSTART;TZID=Europe/Paris:20250113T180000
DTEND;TZID=Europe/Paris:20250113T190000
DTSTAMP:20260422T112407
CREATED:20250110T043415Z
LAST-MODIFIED:20250110T043415Z
UID:3158-1736791200-1736794800@laneuvelotte.fr
SUMMARY:Permanence gendarmerie
DESCRIPTION:Une permanence à la population de la gendarmerie se tiendra en mairie le lundi 13 janvier 2025 de 18h00 à 19h00. \n 
URL:https://laneuvelotte.fr/event/permanence-gendarmerie/
LOCATION:mairie\, 35 grande rue\, LANEUVELOTTE\, 54280
END:VEVENT
BEGIN:VEVENT
DTSTART;TZID=Europe/Paris:20250104T180000
DTEND;TZID=Europe/Paris:20250104T210000
DTSTAMP:20260422T112407
CREATED:20241123T174219Z
LAST-MODIFIED:20241123T174219Z
UID:3065-1736013600-1736024400@laneuvelotte.fr
SUMMARY:Cérémonie des voeux de l'équipe municipale
DESCRIPTION:L’équipe municipale de Laneuvelotte est heureuse de vous convier à la cérémonie des voeux le samedi 4 janvier 2025 à 18h00 à la mairie. \nCette cérémonie sera aussi l’occasion de partager le verre de l’amitié.
URL:https://laneuvelotte.fr/event/ceremonie-des-voeux-de-lequipe-municipale/
LOCATION:Laneuvelotte\, Centre village
END:VEVENT
BEGIN:VEVENT
DTSTART;TZID=Europe/Paris:20241215T153000
DTEND;TZID=Europe/Paris:20241215T200000
DTSTAMP:20260422T112407
CREATED:20241029T141614Z
LAST-MODIFIED:20241029T141614Z
UID:3007-1734276600-1734292800@laneuvelotte.fr
SUMMARY:Défilé et spectacle de la Saint Nicolas
DESCRIPTION:Dimanche 15 décembre après midi\, la municipalité de Laneuvelotte co-organise avec le comité des fêtes les festivités de la saint Nicolas. \nLe traditionnel défilé déambulera dans les rues du village et un spectacle pour tous publics sera ensuite offert.
URL:https://laneuvelotte.fr/event/defile-et-spectacle-de-la-saint-nicolas/
END:VEVENT
BEGIN:VEVENT
DTSTART;TZID=Europe/Paris:20241115T183000
DTEND;TZID=Europe/Paris:20241115T200000
DTSTAMP:20260422T112407
CREATED:20241111T145200Z
LAST-MODIFIED:20241111T145201Z
UID:3037-1731695400-1731700800@laneuvelotte.fr
SUMMARY:Présentation du dispositif de covoiturage
DESCRIPTION:Ce vendredi 15 novembre 2024 à 18h30\, en mairie\, est organisée à l’attention de la population de Laneuvelotte une présentation du dispositif de covoiturage par l’équipe municipale avec la Communauté de Communes de Seille et Grand Couronné.
URL:https://laneuvelotte.fr/event/presentation-du-dispositif-de-covoiturage/
LOCATION:Laneuvelotte\, Centre village
END:VEVENT
BEGIN:VEVENT
DTSTART;TZID=Europe/Paris:20241111T110000
DTEND;TZID=Europe/Paris:20241111T120000
DTSTAMP:20260422T112407
CREATED:20241105T141853Z
LAST-MODIFIED:20241105T141908Z
UID:3014-1731322800-1731326400@laneuvelotte.fr
SUMMARY:Commémoration du 11 Novembre 2024
DESCRIPTION:Le lundi 11 novembre 2024 à 11h00\, toute la population est invitée à la cérémonie commémorative de l’armistice et à se recueillir à la mémoire de nos chers disparus au Monument aux morts du cimetière de Laneuvelotte où Monsieur le Maire y déposera une gerbe de fleurs accompagnés d’élus. \nPour les jeunes générations\, participer à cette cérémonie symbolise leur volonté à entrer dans la communauté de citoyens. \nC’est aussi faire un lien entre les générations\, celles de leurs arrières grands-parents et la leur\, c’est un héritage qui se transmet. \nC’est aussi voir derrière les personnes âgées la force d’engagement et du courage dont ils ont fait preuve par le passé : nous vous attendons nombreux.
URL:https://laneuvelotte.fr/event/commemoration-du-11-novembre-2024/
LOCATION:Laneuvelotte\, Centre village
END:VEVENT
BEGIN:VEVENT
DTSTART;TZID=Europe/Paris:20240629T093000
DTEND;TZID=Europe/Paris:20240629T140000
DTSTAMP:20260422T112407
CREATED:20240611T093557Z
LAST-MODIFIED:20240611T093557Z
UID:2895-1719653400-1719669600@laneuvelotte.fr
SUMMARY:Olympiades des sans-culottes
DESCRIPTION:Samedi 29 juin à partir de 9h30 sur le city-stade de Laneuvelotte\, les habitants de notre belle commune sont invités à participer aux premières olympiades inter-générationnelles des sans-culotte. \nSuivi d’un barbecue. \nInscriptions et renseignements auprès de Jessica ( jeesicam@hotmail.com) ou de la mairie de Laneuvelotte ( accueil@laneuvelotte.fr)
URL:https://laneuvelotte.fr/event/olympiades-des-sans-culottes/
LOCATION:Laneuvelotte\, Centre village
END:VEVENT
BEGIN:VEVENT
DTSTART;TZID=Europe/Paris:20240621T190000
DTEND;TZID=Europe/Paris:20240621T235900
DTSTAMP:20260422T112407
CREATED:20240419T121222Z
LAST-MODIFIED:20240514T074613Z
UID:2786-1718996400-1719014340@laneuvelotte.fr
SUMMARY:Fête de la Musique
DESCRIPTION:Après le succès de sa première édition\, le comité des fêtes de Laneuvelotte organise sa deuxième fête de la musique le vendredi 21 juin 2024 à partir de 19h sur le city stade. \nParticiperont à cette soirée :  19h : L’école de musique intercommunale de Seille et grand couronné\, 20h00 : Ultrasong; 21h: Vodoo doctors \nBuvette et restauration sur place
URL:https://laneuvelotte.fr/event/fete-de-la-musique/
END:VEVENT
BEGIN:VEVENT
DTSTART;TZID=Europe/Paris:20240525T093000
DTEND;TZID=Europe/Paris:20240525T113000
DTSTAMP:20260422T112407
CREATED:20240514T075801Z
LAST-MODIFIED:20240514T075801Z
UID:2836-1716629400-1716636600@laneuvelotte.fr
SUMMARY:Fleurissement du village
DESCRIPTION:Comme les années précédentes\, une invitation est lancée à la population afin de participer au fleurissement du village. \nL’équipe municipale se charge du matériel et des fleurs et les habitants peuvent venir implanter les végétaux dans les bacs disposés dans le village. \nRendez vous samedi 25 mai à 9h30 devant la mairie.
URL:https://laneuvelotte.fr/event/fleurissement-du-village/
END:VEVENT
BEGIN:VEVENT
DTSTART;TZID=Europe/Paris:20240519T100000
DTEND;TZID=Europe/Paris:20240519T190000
DTSTAMP:20260422T112407
CREATED:20240514T073824Z
LAST-MODIFIED:20240514T073824Z
UID:2824-1716112800-1716145200@laneuvelotte.fr
SUMMARY:Rassemblement voitures et motos anciennes
DESCRIPTION:L’association Laneuv’old Cars organise son rassemblement annuel de voitures et de motos anciennes au cœur du village de Laneuvelotte de 10h à 19h dimanche 19 mai 2024. \nEntrée gratuite pour les – de 18 ans. Animations\, buvette et restauration sur place.
URL:https://laneuvelotte.fr/event/rassemblement-voitures-et-motos-anciennes/
LOCATION:Laneuvelotte\, Centre village
END:VEVENT
END:VCALENDAR